BEGIN:VCALENDAR
VERSION:2.0
PRODID:-//Goldgrube//myauktion.com//AT
CALSCALE:GREGORIAN
BEGIN:VEVENT
DTSTART:20260503T141800
DTEND:20260503T141830
LOCATION:Gewerbepark 13, 8562 Mooskirchen
DTSTAMP:20260419T154432
SUMMARY:MyAuktion: Ablauf Artikel Nr. 955369 MyProtein Impact Whey Isolate Americano je 2,5Kg
URL;VALUE=URI:https://www.myauktion.com/versteigerung7640-position2439848-myprotein-impact-whey-isolate-americano-je-25kg.php
DESCRIPTION:MHD:03/2027
UID:myauktion-7640-2439848
BEGIN:VALARM
ACTION:DISPLAY
DESCRIPTION:MHD:03/2027
TRIGGER:-PT10M
END:VALARM
END:VEVENT
END:VCALENDAR