BEGIN:VCALENDAR
VERSION:2.0
PRODID:-//Goldgrube//myauktion.com//AT
CALSCALE:GREGORIAN
BEGIN:VEVENT
DTSTART:20260503T141900
DTEND:20260503T141930
LOCATION:Gewerbepark 13, 8562 Mooskirchen
DTSTAMP:20260419T154424
SUMMARY:MyAuktion: Ablauf Artikel Nr. 955370 MyProtein Impact Whey Protein Chocolate Banana je 1Kg
URL;VALUE=URI:https://www.myauktion.com/versteigerung7640-position2439850-myprotein-impact-whey-protein-chocolate-banana-je-1kg.php
DESCRIPTION:MHD: 04/2027
UID:myauktion-7640-2439850
BEGIN:VALARM
ACTION:DISPLAY
DESCRIPTION:MHD: 04/2027
TRIGGER:-PT10M
END:VALARM
END:VEVENT
END:VCALENDAR