BEGIN:VCALENDAR
VERSION:2.0
PRODID:-//Goldgrube//myauktion.com//AT
CALSCALE:GREGORIAN
BEGIN:VEVENT
DTSTART:20260503T142000
DTEND:20260503T142030
LOCATION:Gewerbepark 13, 8562 Mooskirchen
DTSTAMP:20260419T154434
SUMMARY:MyAuktion: Ablauf Artikel Nr. 955371 LifeTakt Aloe-Vera Drinking Gel je 1L
URL;VALUE=URI:https://www.myauktion.com/versteigerung7640-position2439852-lifetakt-aloe-vera-drinking-gel-je-1l.php
DESCRIPTION:MHD: 08/2026
UID:myauktion-7640-2439852
BEGIN:VALARM
ACTION:DISPLAY
DESCRIPTION:MHD: 08/2026
TRIGGER:-PT10M
END:VALARM
END:VEVENT
END:VCALENDAR