BEGIN:VCALENDAR
VERSION:2.0
PRODID:-//Goldgrube//myauktion.com//AT
CALSCALE:GREGORIAN
BEGIN:VEVENT
DTSTART:20260503T151300
DTEND:20260503T151330
LOCATION:Gewerbepark 13, 8562 Mooskirchen
DTSTAMP:20260419T154433
SUMMARY:MyAuktion: Ablauf Artikel Nr. 956220 Sugar Gang Adventskalender 
URL;VALUE=URI:https://www.myauktion.com/versteigerung7640-position2439853-sugar-gang-adventskalender.php
DESCRIPTION:58x115cm .Mhd ist nicht ersichtlich 
UID:myauktion-7640-2439853
BEGIN:VALARM
ACTION:DISPLAY
DESCRIPTION:58x115cm .Mhd ist nicht ersichtlich 
TRIGGER:-PT10M
END:VALARM
END:VEVENT
END:VCALENDAR