BEGIN:VCALENDAR
VERSION:2.0
PRODID:-//Goldgrube//myauktion.com//AT
CALSCALE:GREGORIAN
BEGIN:VEVENT
DTSTART:20260503T142500
DTEND:20260503T142530
LOCATION:Gewerbepark 13, 8562 Mooskirchen
DTSTAMP:20260419T154431
SUMMARY:MyAuktion: Ablauf Artikel Nr. 955374 Löwenanteil Linsen Dal je 570g
URL;VALUE=URI:https://www.myauktion.com/versteigerung7640-position2439858-loewenanteil-linsen-dal-je-570g.php
DESCRIPTION:MHD: 14.07.2027
UID:myauktion-7640-2439858
BEGIN:VALARM
ACTION:DISPLAY
DESCRIPTION:MHD: 14.07.2027
TRIGGER:-PT10M
END:VALARM
END:VEVENT
END:VCALENDAR