BEGIN:VCALENDAR
VERSION:2.0
PRODID:-//Goldgrube//myauktion.com//AT
CALSCALE:GREGORIAN
BEGIN:VEVENT
DTSTART:20260503T151800
DTEND:20260503T151830
LOCATION:Gewerbepark 13, 8562 Mooskirchen
DTSTAMP:20260419T154430
SUMMARY:MyAuktion: Ablauf Artikel Nr. 956223 Esn Designer Whey Protein 2000g 
URL;VALUE=URI:https://www.myauktion.com/versteigerung7640-position2439859-esn-designer-whey-protein-2000g.php
DESCRIPTION:Mhd 30.04.27
UID:myauktion-7640-2439859
BEGIN:VALARM
ACTION:DISPLAY
DESCRIPTION:Mhd 30.04.27
TRIGGER:-PT10M
END:VALARM
END:VEVENT
END:VCALENDAR