BEGIN:VCALENDAR
VERSION:2.0
PRODID:-//Goldgrube//myauktion.com//AT
CALSCALE:GREGORIAN
BEGIN:VEVENT
DTSTART:20260503T142600
DTEND:20260503T142630
LOCATION:Gewerbepark 13, 8562 Mooskirchen
DTSTAMP:20260419T151130
SUMMARY:MyAuktion: Ablauf Artikel Nr. 955375 Löwenanteil African Bowl je 570g
URL;VALUE=URI:https://www.myauktion.com/versteigerung7640-position2439860-loewenanteil-african-bowl-je-570g.php
DESCRIPTION:MHD: 29.09.2027
UID:myauktion-7640-2439860
BEGIN:VALARM
ACTION:DISPLAY
DESCRIPTION:MHD: 29.09.2027
TRIGGER:-PT10M
END:VALARM
END:VEVENT
END:VCALENDAR