BEGIN:VCALENDAR
VERSION:2.0
PRODID:-//Goldgrube//myauktion.com//AT
CALSCALE:GREGORIAN
BEGIN:VEVENT
DTSTART:20260503T151900
DTEND:20260503T151930
LOCATION:Gewerbepark 13, 8562 Mooskirchen
DTSTAMP:20260419T162732
SUMMARY:MyAuktion: Ablauf Artikel Nr. 956224 Esn Designer Whey Protein Milk Chocolate Flavour  908g 
URL;VALUE=URI:https://www.myauktion.com/versteigerung7640-position2439861-esn-designer-whey-protein-milk-chocolate-flavour-908g.php
DESCRIPTION:Mhd 31.3.27
UID:myauktion-7640-2439861
BEGIN:VALARM
ACTION:DISPLAY
DESCRIPTION:Mhd 31.3.27
TRIGGER:-PT10M
END:VALARM
END:VEVENT
END:VCALENDAR