BEGIN:VCALENDAR
VERSION:2.0
PRODID:-//Goldgrube//myauktion.com//AT
CALSCALE:GREGORIAN
BEGIN:VEVENT
DTSTART:20260503T142700
DTEND:20260503T142730
LOCATION:Gewerbepark 13, 8562 Mooskirchen
DTSTAMP:20260419T154439
SUMMARY:MyAuktion: Ablauf Artikel Nr. 955376 Löwenanteil Hühner Frikassee je 570g
URL;VALUE=URI:https://www.myauktion.com/versteigerung7640-position2439862-loewenanteil-huehner-frikassee-je-570g.php
DESCRIPTION:MHD: 10/2027
UID:myauktion-7640-2439862
BEGIN:VALARM
ACTION:DISPLAY
DESCRIPTION:MHD: 10/2027
TRIGGER:-PT10M
END:VALARM
END:VEVENT
END:VCALENDAR