BEGIN:VCALENDAR
VERSION:2.0
PRODID:-//Goldgrube//myauktion.com//AT
CALSCALE:GREGORIAN
BEGIN:VEVENT
DTSTART:20260503T142800
DTEND:20260503T142830
LOCATION:Gewerbepark 13, 8562 Mooskirchen
DTSTAMP:20260419T192350
SUMMARY:MyAuktion: Ablauf Artikel Nr. 955377 Löwenanteil Classic Bolognese je 570g
URL;VALUE=URI:https://www.myauktion.com/versteigerung7640-position2439864-loewenanteil-classic-bolognese-je-570g.php
DESCRIPTION:MHD: 10/2027
UID:myauktion-7640-2439864
BEGIN:VALARM
ACTION:DISPLAY
DESCRIPTION:MHD: 10/2027
TRIGGER:-PT10M
END:VALARM
END:VEVENT
END:VCALENDAR