BEGIN:VCALENDAR
VERSION:2.0
PRODID:-//Goldgrube//myauktion.com//AT
CALSCALE:GREGORIAN
BEGIN:VEVENT
DTSTART:20260503T143000
DTEND:20260503T143030
LOCATION:Gewerbepark 13, 8562 Mooskirchen
DTSTAMP:20260419T151129
SUMMARY:MyAuktion: Ablauf Artikel Nr. 955379 Löwenanteil Linsen à la Provence je 570g
URL;VALUE=URI:https://www.myauktion.com/versteigerung7640-position2439866-loewenanteil-linsen--la-provence-je-570g.php
DESCRIPTION:MHD: 07/2027
UID:myauktion-7640-2439866
BEGIN:VALARM
ACTION:DISPLAY
DESCRIPTION:MHD: 07/2027
TRIGGER:-PT10M
END:VALARM
END:VEVENT
END:VCALENDAR