BEGIN:VCALENDAR
VERSION:2.0
PRODID:-//Goldgrube//myauktion.com//AT
CALSCALE:GREGORIAN
BEGIN:VEVENT
DTSTART:20260503T143100
DTEND:20260503T143130
LOCATION:Gewerbepark 13, 8562 Mooskirchen
DTSTAMP:20260419T154432
SUMMARY:MyAuktion: Ablauf Artikel Nr. 955380 Löwenanteil Kichererbsen Curry je 570g
URL;VALUE=URI:https://www.myauktion.com/versteigerung7640-position2439867-loewenanteil-kichererbsen-curry-je-570g.php
DESCRIPTION:MHD: 13.10.2027
UID:myauktion-7640-2439867
BEGIN:VALARM
ACTION:DISPLAY
DESCRIPTION:MHD: 13.10.2027
TRIGGER:-PT10M
END:VALARM
END:VEVENT
END:VCALENDAR