BEGIN:VCALENDAR
VERSION:2.0
PRODID:-//Goldgrube//myauktion.com//AT
CALSCALE:GREGORIAN
BEGIN:VEVENT
DTSTART:20260503T143200
DTEND:20260503T143230
LOCATION:Gewerbepark 13, 8562 Mooskirchen
DTSTAMP:20260419T151130
SUMMARY:MyAuktion: Ablauf Artikel Nr. 955381 Löwenanteil Erdnuss Curry je 570g
URL;VALUE=URI:https://www.myauktion.com/versteigerung7640-position2439868-loewenanteil-erdnuss-curry-je-570g.php
DESCRIPTION:MHD: 07.08.2027
UID:myauktion-7640-2439868
BEGIN:VALARM
ACTION:DISPLAY
DESCRIPTION:MHD: 07.08.2027
TRIGGER:-PT10M
END:VALARM
END:VEVENT
END:VCALENDAR