BEGIN:VCALENDAR
VERSION:2.0
PRODID:-//Goldgrube//myauktion.com//AT
CALSCALE:GREGORIAN
BEGIN:VEVENT
DTSTART:20260503T144400
DTEND:20260503T144430
LOCATION:Gewerbepark 13, 8562 Mooskirchen
DTSTAMP:20260419T154430
SUMMARY:MyAuktion: Ablauf Artikel Nr. 955388 WOiF Waldviertler Premium Bio Gin je 500ml
URL;VALUE=URI:https://www.myauktion.com/versteigerung7640-position2439875-woif-waldviertler-premium-bio-gin-je-500ml.php
DESCRIPTION:
UID:myauktion-7640-2439875
BEGIN:VALARM
ACTION:DISPLAY
DESCRIPTION:
TRIGGER:-PT10M
END:VALARM
END:VEVENT
END:VCALENDAR