BEGIN:VCALENDAR
VERSION:2.0
PRODID:-//Goldgrube//myauktion.com//AT
CALSCALE:GREGORIAN
BEGIN:VEVENT
DTSTART:20260503T144600
DTEND:20260503T144630
LOCATION:Gewerbepark 13, 8562 Mooskirchen
DTSTAMP:20260419T154436
SUMMARY:MyAuktion: Ablauf Artikel Nr. 955389 Fajr Langkorn-Reis je 1kg
URL;VALUE=URI:https://www.myauktion.com/versteigerung7640-position2439876-fajr-langkorn-reis-je-1kg.php
DESCRIPTION:
UID:myauktion-7640-2439876
BEGIN:VALARM
ACTION:DISPLAY
DESCRIPTION:
TRIGGER:-PT10M
END:VALARM
END:VEVENT
END:VCALENDAR