BEGIN:VCALENDAR
VERSION:2.0
PRODID:-//Goldgrube//myauktion.com//AT
CALSCALE:GREGORIAN
BEGIN:VEVENT
DTSTART:20260503T145600
DTEND:20260503T145630
LOCATION:Gewerbepark 13, 8562 Mooskirchen
DTSTAMP:20260419T154434
SUMMARY:MyAuktion: Ablauf Artikel Nr. 955393 Sheko Balance Shake Espresso je 378g
URL;VALUE=URI:https://www.myauktion.com/versteigerung7640-position2439880-sheko-balance-shake-espresso-je-378g.php
DESCRIPTION:MHD: 08/2026
UID:myauktion-7640-2439880
BEGIN:VALARM
ACTION:DISPLAY
DESCRIPTION:MHD: 08/2026
TRIGGER:-PT10M
END:VALARM
END:VEVENT
END:VCALENDAR