BEGIN:VCALENDAR
VERSION:2.0
PRODID:-//Goldgrube//myauktion.com//AT
CALSCALE:GREGORIAN
BEGIN:VEVENT
DTSTART:20260503T145700
DTEND:20260503T145730
LOCATION:Gewerbepark 13, 8562 Mooskirchen
DTSTAMP:20260419T154423
SUMMARY:MyAuktion: Ablauf Artikel Nr. 955394 Sheko Balance Shake Banana je 378g
URL;VALUE=URI:https://www.myauktion.com/versteigerung7640-position2439881-sheko-balance-shake-banana-je-378g.php
DESCRIPTION:MHD: 10/2026
UID:myauktion-7640-2439881
BEGIN:VALARM
ACTION:DISPLAY
DESCRIPTION:MHD: 10/2026
TRIGGER:-PT10M
END:VALARM
END:VEVENT
END:VCALENDAR