BEGIN:VCALENDAR
VERSION:2.0
PRODID:-//Goldgrube//myauktion.com//AT
CALSCALE:GREGORIAN
BEGIN:VEVENT
DTSTART:20260503T145800
DTEND:20260503T145830
LOCATION:Gewerbepark 13, 8562 Mooskirchen
DTSTAMP:20260419T154432
SUMMARY:MyAuktion: Ablauf Artikel Nr. 955395 Sheko Balance Shake Haselnuss je 378g
URL;VALUE=URI:https://www.myauktion.com/versteigerung7640-position2439882-sheko-balance-shake-haselnuss-je-378g.php
DESCRIPTION:MHD: 09/2026
UID:myauktion-7640-2439882
BEGIN:VALARM
ACTION:DISPLAY
DESCRIPTION:MHD: 09/2026
TRIGGER:-PT10M
END:VALARM
END:VEVENT
END:VCALENDAR