BEGIN:VCALENDAR
VERSION:2.0
PRODID:-//Goldgrube//myauktion.com//AT
CALSCALE:GREGORIAN
BEGIN:VEVENT
DTSTART:20260503T145900
DTEND:20260503T145930
LOCATION:Gewerbepark 13, 8562 Mooskirchen
DTSTAMP:20260419T154438
SUMMARY:MyAuktion: Ablauf Artikel Nr. 955396 Nescafe Dolce Gusto Café au Lait Kapseln, je 300g
URL;VALUE=URI:https://www.myauktion.com/versteigerung7640-position2439883-nescafe-dolce-gusto-cafe-au-lait-kapseln-je-300g.php
DESCRIPTION:MHD: 31.07.2026
UID:myauktion-7640-2439883
BEGIN:VALARM
ACTION:DISPLAY
DESCRIPTION:MHD: 31.07.2026
TRIGGER:-PT10M
END:VALARM
END:VEVENT
END:VCALENDAR