BEGIN:VCALENDAR
VERSION:2.0
PRODID:-//Goldgrube//myauktion.com//AT
CALSCALE:GREGORIAN
BEGIN:VEVENT
DTSTART:20260503T150000
DTEND:20260503T150030
LOCATION:Gewerbepark 13, 8562 Mooskirchen
DTSTAMP:20260419T154426
SUMMARY:MyAuktion: Ablauf Artikel Nr. 955397 Nescafe Dolce Gusto Chococino je 256g
URL;VALUE=URI:https://www.myauktion.com/versteigerung7640-position2439884-nescafe-dolce-gusto-chococino-je-256g.php
DESCRIPTION:MHD: 30.06.2026
UID:myauktion-7640-2439884
BEGIN:VALARM
ACTION:DISPLAY
DESCRIPTION:MHD: 30.06.2026
TRIGGER:-PT10M
END:VALARM
END:VEVENT
END:VCALENDAR