BEGIN:VCALENDAR
VERSION:2.0
PRODID:-//Goldgrube//myauktion.com//AT
CALSCALE:GREGORIAN
BEGIN:VEVENT
DTSTART:20260503T150100
DTEND:20260503T150130
LOCATION:Gewerbepark 13, 8562 Mooskirchen
DTSTAMP:20260419T154425
SUMMARY:MyAuktion: Ablauf Artikel Nr. 955398 Café au Lait Kapseln je 160g
URL;VALUE=URI:https://www.myauktion.com/versteigerung7640-position2439885-cafe-au-lait-kapseln-je-160g.php
DESCRIPTION:MHD: 18.09.2026
UID:myauktion-7640-2439885
BEGIN:VALARM
ACTION:DISPLAY
DESCRIPTION:MHD: 18.09.2026
TRIGGER:-PT10M
END:VALARM
END:VEVENT
END:VCALENDAR