BEGIN:VCALENDAR
VERSION:2.0
PRODID:-//Goldgrube//myauktion.com//AT
CALSCALE:GREGORIAN
BEGIN:VEVENT
DTSTART:20260503T150400
DTEND:20260503T150430
LOCATION:Gewerbepark 13, 8562 Mooskirchen
DTSTAMP:20260419T154424
SUMMARY:MyAuktion: Ablauf Artikel Nr. 955399 Chocolate Kapseln je 224g
URL;VALUE=URI:https://www.myauktion.com/versteigerung7640-position2439886-chocolate-kapseln-je-224g.php
DESCRIPTION:MHD: 14.08.2026
UID:myauktion-7640-2439886
BEGIN:VALARM
ACTION:DISPLAY
DESCRIPTION:MHD: 14.08.2026
TRIGGER:-PT10M
END:VALARM
END:VEVENT
END:VCALENDAR