BEGIN:VCALENDAR
VERSION:2.0
PRODID:-//Goldgrube//myauktion.com//AT
CALSCALE:GREGORIAN
BEGIN:VEVENT
DTSTART:20260503T130200
DTEND:20260503T130230
LOCATION:Gewerbepark 13, 8562 Mooskirchen
DTSTAMP:20260419T142644
SUMMARY:MyAuktion: Ablauf Artikel Nr. 955241 Roc Sports Bio Protein Vanille je 500g
URL;VALUE=URI:https://www.myauktion.com/versteigerung7640-position2439888-roc-sports-bio-protein-vanille-je-500g.php
DESCRIPTION:MHD: 20.04.2027
UID:myauktion-7640-2439888
BEGIN:VALARM
ACTION:DISPLAY
DESCRIPTION:MHD: 20.04.2027
TRIGGER:-PT10M
END:VALARM
END:VEVENT
END:VCALENDAR