BEGIN:VCALENDAR
VERSION:2.0
PRODID:-//Goldgrube//myauktion.com//AT
CALSCALE:GREGORIAN
BEGIN:VEVENT
DTSTART:20260503T130500
DTEND:20260503T130530
LOCATION:Gewerbepark 13, 8562 Mooskirchen
DTSTAMP:20260419T220152
SUMMARY:MyAuktion: Ablauf Artikel Nr. 955242 Roc Health Kreatin Monohydrat Pulver je 500g
URL;VALUE=URI:https://www.myauktion.com/versteigerung7640-position2439889-roc-health-kreatin-monohydrat-pulver-je-500g.php
DESCRIPTION:MHD: 31.08.2026
UID:myauktion-7640-2439889
BEGIN:VALARM
ACTION:DISPLAY
DESCRIPTION:MHD: 31.08.2026
TRIGGER:-PT10M
END:VALARM
END:VEVENT
END:VCALENDAR