BEGIN:VCALENDAR
VERSION:2.0
PRODID:-//Goldgrube//myauktion.com//AT
CALSCALE:GREGORIAN
BEGIN:VEVENT
DTSTART:20260503T130900
DTEND:20260503T130930
LOCATION:Gewerbepark 13, 8562 Mooskirchen
DTSTAMP:20260419T220153
SUMMARY:MyAuktion: Ablauf Artikel Nr. 955245 Roc Sports Bio Protein Schoko Vegan je 500g
URL;VALUE=URI:https://www.myauktion.com/versteigerung7640-position2439892-roc-sports-bio-protein-schoko-vegan-je-500g.php
DESCRIPTION:MHD: 20.11.2026
UID:myauktion-7640-2439892
BEGIN:VALARM
ACTION:DISPLAY
DESCRIPTION:MHD: 20.11.2026
TRIGGER:-PT10M
END:VALARM
END:VEVENT
END:VCALENDAR