BEGIN:VCALENDAR
VERSION:2.0
PRODID:-//Goldgrube//myauktion.com//AT
CALSCALE:GREGORIAN
BEGIN:VEVENT
DTSTART:20260503T131100
DTEND:20260503T131130
LOCATION:Gewerbepark 13, 8562 Mooskirchen
DTSTAMP:20260419T220153
SUMMARY:MyAuktion: Ablauf Artikel Nr. 955246 Roc Sports Bio Protein Green Vegan je 500g
URL;VALUE=URI:https://www.myauktion.com/versteigerung7640-position2439893-roc-sports-bio-protein-green-vegan-je-500g.php
DESCRIPTION:MHD: 12.11.2026
UID:myauktion-7640-2439893
BEGIN:VALARM
ACTION:DISPLAY
DESCRIPTION:MHD: 12.11.2026
TRIGGER:-PT10M
END:VALARM
END:VEVENT
END:VCALENDAR