BEGIN:VCALENDAR
VERSION:2.0
PRODID:-//Goldgrube//myauktion.com//AT
CALSCALE:GREGORIAN
BEGIN:VEVENT
DTSTART:20260503T131200
DTEND:20260503T131230
LOCATION:Gewerbepark 13, 8562 Mooskirchen
DTSTAMP:20260419T142651
SUMMARY:MyAuktion: Ablauf Artikel Nr. 955247 Twinings Pure Green Tea je 40g
URL;VALUE=URI:https://www.myauktion.com/versteigerung7640-position2439894-twinings-pure-green-tea-je-40g.php
DESCRIPTION:MHD: 10.02.2028
UID:myauktion-7640-2439894
BEGIN:VALARM
ACTION:DISPLAY
DESCRIPTION:MHD: 10.02.2028
TRIGGER:-PT10M
END:VALARM
END:VEVENT
END:VCALENDAR