BEGIN:VCALENDAR
VERSION:2.0
PRODID:-//Goldgrube//myauktion.com//AT
CALSCALE:GREGORIAN
BEGIN:VEVENT
DTSTART:20260503T131300
DTEND:20260503T131330
LOCATION:Gewerbepark 13, 8562 Mooskirchen
DTSTAMP:20260419T142651
SUMMARY:MyAuktion: Ablauf Artikel Nr. 955248 Roc Kitchen Chicken Rock Pulver je 90g
URL;VALUE=URI:https://www.myauktion.com/versteigerung7640-position2439895-roc-kitchen-chicken-rock-pulver-je-90g.php
DESCRIPTION:MHD: 30.04.2027
UID:myauktion-7640-2439895
BEGIN:VALARM
ACTION:DISPLAY
DESCRIPTION:MHD: 30.04.2027
TRIGGER:-PT10M
END:VALARM
END:VEVENT
END:VCALENDAR