BEGIN:VCALENDAR
VERSION:2.0
PRODID:-//Goldgrube//myauktion.com//AT
CALSCALE:GREGORIAN
BEGIN:VEVENT
DTSTART:20260503T131600
DTEND:20260503T131630
LOCATION:Gewerbepark 13, 8562 Mooskirchen
DTSTAMP:20260419T142651
SUMMARY:MyAuktion: Ablauf Artikel Nr. 955249 Roc Kitchen Roc Your Bratkartoffel je 90g
URL;VALUE=URI:https://www.myauktion.com/versteigerung7640-position2439896-roc-kitchen-roc-your-bratkartoffel-je-90g.php
DESCRIPTION:02.04.2027
UID:myauktion-7640-2439896
BEGIN:VALARM
ACTION:DISPLAY
DESCRIPTION:02.04.2027
TRIGGER:-PT10M
END:VALARM
END:VEVENT
END:VCALENDAR