BEGIN:VCALENDAR
VERSION:2.0
PRODID:-//Goldgrube//myauktion.com//AT
CALSCALE:GREGORIAN
BEGIN:VEVENT
DTSTART:20260503T131700
DTEND:20260503T131730
LOCATION:Gewerbepark 13, 8562 Mooskirchen
DTSTAMP:20260419T142651
SUMMARY:MyAuktion: Ablauf Artikel Nr. 955252 Miami Vibes Miami Gain Protein Vanille je 2500g
URL;VALUE=URI:https://www.myauktion.com/versteigerung7640-position2439897-miami-vibes-miami-gain-protein-vanille-je-2500g.php
DESCRIPTION:MHD: 31.03.2028
UID:myauktion-7640-2439897
BEGIN:VALARM
ACTION:DISPLAY
DESCRIPTION:MHD: 31.03.2028
TRIGGER:-PT10M
END:VALARM
END:VEVENT
END:VCALENDAR