BEGIN:VCALENDAR
VERSION:2.0
PRODID:-//Goldgrube//myauktion.com//AT
CALSCALE:GREGORIAN
BEGIN:VEVENT
DTSTART:20260503T131800
DTEND:20260503T131830
LOCATION:Gewerbepark 13, 8562 Mooskirchen
DTSTAMP:20260419T142647
SUMMARY:MyAuktion: Ablauf Artikel Nr. 955253 IQ Nutrition Complex Vanille 5 je 2273g
URL;VALUE=URI:https://www.myauktion.com/versteigerung7640-position2439898-iq-nutrition-complex-vanille-5-je-2273g.php
DESCRIPTION:MHD: 12/2027
UID:myauktion-7640-2439898
BEGIN:VALARM
ACTION:DISPLAY
DESCRIPTION:MHD: 12/2027
TRIGGER:-PT10M
END:VALARM
END:VEVENT
END:VCALENDAR