BEGIN:VCALENDAR
VERSION:2.0
PRODID:-//Goldgrube//myauktion.com//AT
CALSCALE:GREGORIAN
BEGIN:VEVENT
DTSTART:20260503T131900
DTEND:20260503T131930
LOCATION:Gewerbepark 13, 8562 Mooskirchen
DTSTAMP:20260419T220153
SUMMARY:MyAuktion: Ablauf Artikel Nr. 955254 Scitec Nutrition Muscle Pro Strawberry-Joghurt je 2500g
URL;VALUE=URI:https://www.myauktion.com/versteigerung7640-position2439899-scitec-nutrition-muscle-pro-strawberry-joghurt-je-2500g.php
DESCRIPTION:MHD: 24.04.2028
UID:myauktion-7640-2439899
BEGIN:VALARM
ACTION:DISPLAY
DESCRIPTION:MHD: 24.04.2028
TRIGGER:-PT10M
END:VALARM
END:VEVENT
END:VCALENDAR