BEGIN:VCALENDAR
VERSION:2.0
PRODID:-//Goldgrube//myauktion.com//AT
CALSCALE:GREGORIAN
BEGIN:VEVENT
DTSTART:20260503T132000
DTEND:20260503T132030
LOCATION:Gewerbepark 13, 8562 Mooskirchen
DTSTAMP:20260419T142656
SUMMARY:MyAuktion: Ablauf Artikel Nr. 955255 Dymatize Iso 100 Hydrolyzed Vanille je 2264g
URL;VALUE=URI:https://www.myauktion.com/versteigerung7640-position2439900-dymatize-iso-100-hydrolyzed-vanille-je-2264g.php
DESCRIPTION:MHD: 07/2027
UID:myauktion-7640-2439900
BEGIN:VALARM
ACTION:DISPLAY
DESCRIPTION:MHD: 07/2027
TRIGGER:-PT10M
END:VALARM
END:VEVENT
END:VCALENDAR