BEGIN:VCALENDAR
VERSION:2.0
PRODID:-//Goldgrube//myauktion.com//AT
CALSCALE:GREGORIAN
BEGIN:VEVENT
DTSTART:20260503T172000
DTEND:20260503T172030
LOCATION:Gewerbepark 13, 8562 Mooskirchen
DTSTAMP:20260419T192402
SUMMARY:MyAuktion: Ablauf Artikel Nr. 957032 Glow Kollagen Plus Pulver je 450g
URL;VALUE=URI:https://www.myauktion.com/versteigerung7640-position2439904-glow-kollagen-plus-pulver-je-450g.php
DESCRIPTION:MHD: 11/2026
UID:myauktion-7640-2439904
BEGIN:VALARM
ACTION:DISPLAY
DESCRIPTION:MHD: 11/2026
TRIGGER:-PT10M
END:VALARM
END:VEVENT
END:VCALENDAR