BEGIN:VCALENDAR
VERSION:2.0
PRODID:-//Goldgrube//myauktion.com//AT
CALSCALE:GREGORIAN
BEGIN:VEVENT
DTSTART:20260503T153200
DTEND:20260503T153230
LOCATION:Gewerbepark 13, 8562 Mooskirchen
DTSTAMP:20260419T142658
SUMMARY:MyAuktion: Ablauf Artikel Nr. 956230 Giordano Pizzicanto Primitivo Salento 75cl
URL;VALUE=URI:https://www.myauktion.com/versteigerung7640-position2439906-giordano-pizzicanto-primitivo-salento-75cl.php
DESCRIPTION:
UID:myauktion-7640-2439906
BEGIN:VALARM
ACTION:DISPLAY
DESCRIPTION:
TRIGGER:-PT10M
END:VALARM
END:VEVENT
END:VCALENDAR