BEGIN:VCALENDAR
VERSION:2.0
PRODID:-//Goldgrube//myauktion.com//AT
CALSCALE:GREGORIAN
BEGIN:VEVENT
DTSTART:20260503T153600
DTEND:20260503T153630
LOCATION:Gewerbepark 13, 8562 Mooskirchen
DTSTAMP:20260419T154444
SUMMARY:MyAuktion: Ablauf Artikel Nr. 956231 Giordano Blanv De Blancs 75cl
URL;VALUE=URI:https://www.myauktion.com/versteigerung7640-position2439908-giordano-blanv-de-blancs-75cl.php
DESCRIPTION:2024
UID:myauktion-7640-2439908
BEGIN:VALARM
ACTION:DISPLAY
DESCRIPTION:2024
TRIGGER:-PT10M
END:VALARM
END:VEVENT
END:VCALENDAR