BEGIN:VCALENDAR
VERSION:2.0
PRODID:-//Goldgrube//myauktion.com//AT
CALSCALE:GREGORIAN
BEGIN:VEVENT
DTSTART:20260503T153800
DTEND:20260503T153830
LOCATION:Gewerbepark 13, 8562 Mooskirchen
DTSTAMP:20260419T142656
SUMMARY:MyAuktion: Ablauf Artikel Nr. 956233 Giordano Grappa di Barolo 50cl 
URL;VALUE=URI:https://www.myauktion.com/versteigerung7640-position2439910-giordano-grappa-di-barolo-50cl.php
DESCRIPTION:
UID:myauktion-7640-2439910
BEGIN:VALARM
ACTION:DISPLAY
DESCRIPTION:
TRIGGER:-PT10M
END:VALARM
END:VEVENT
END:VCALENDAR