BEGIN:VCALENDAR
VERSION:2.0
PRODID:-//Goldgrube//myauktion.com//AT
CALSCALE:GREGORIAN
BEGIN:VEVENT
DTSTART:20260503T172900
DTEND:20260503T172930
LOCATION:Gewerbepark 13, 8562 Mooskirchen
DTSTAMP:20260419T192401
SUMMARY:MyAuktion: Ablauf Artikel Nr. 957036 Jakobs Tassimo Cappuccino Classic 260g
URL;VALUE=URI:https://www.myauktion.com/versteigerung7640-position2439916-jakobs-tassimo-cappuccino-classic-260g.php
DESCRIPTION:MHD: 17.05.2026
UID:myauktion-7640-2439916
BEGIN:VALARM
ACTION:DISPLAY
DESCRIPTION:MHD: 17.05.2026
TRIGGER:-PT10M
END:VALARM
END:VEVENT
END:VCALENDAR