BEGIN:VCALENDAR
VERSION:2.0
PRODID:-//Goldgrube//myauktion.com//AT
CALSCALE:GREGORIAN
BEGIN:VEVENT
DTSTART:20260503T154700
DTEND:20260503T154730
LOCATION:Gewerbepark 13, 8562 Mooskirchen
DTSTAMP:20260419T192401
SUMMARY:MyAuktion: Ablauf Artikel Nr. 956238 Eduscho Gala Sanft 500g 
URL;VALUE=URI:https://www.myauktion.com/versteigerung7640-position2439918-eduscho-gala-sanft-500g.php
DESCRIPTION:Mhd 30.10.26
UID:myauktion-7640-2439918
BEGIN:VALARM
ACTION:DISPLAY
DESCRIPTION:Mhd 30.10.26
TRIGGER:-PT10M
END:VALARM
END:VEVENT
END:VCALENDAR