BEGIN:VCALENDAR
VERSION:2.0
PRODID:-//Goldgrube//myauktion.com//AT
CALSCALE:GREGORIAN
BEGIN:VEVENT
DTSTART:20260503T154800
DTEND:20260503T154830
LOCATION:Gewerbepark 13, 8562 Mooskirchen
DTSTAMP:20260419T154440
SUMMARY:MyAuktion: Ablauf Artikel Nr. 956239 Evo Whey Protein Matrix 800g 
URL;VALUE=URI:https://www.myauktion.com/versteigerung7640-position2439919-evo-whey-protein-matrix-800g.php
DESCRIPTION:Mhd 08.05.26
UID:myauktion-7640-2439919
BEGIN:VALARM
ACTION:DISPLAY
DESCRIPTION:Mhd 08.05.26
TRIGGER:-PT10M
END:VALARM
END:VEVENT
END:VCALENDAR