BEGIN:VCALENDAR
VERSION:2.0
PRODID:-//Goldgrube//myauktion.com//AT
CALSCALE:GREGORIAN
BEGIN:VEVENT
DTSTART:20260503T154900
DTEND:20260503T154930
LOCATION:Gewerbepark 13, 8562 Mooskirchen
DTSTAMP:20260419T154440
SUMMARY:MyAuktion: Ablauf Artikel Nr. 956240 Rost Wermuth Rosé 4x und Peach Buzz 2x 330ml 
URL;VALUE=URI:https://www.myauktion.com/versteigerung7640-position2439920-rost-wermuth-rose-4x-und-peach-buzz-2x-330ml.php
DESCRIPTION:
UID:myauktion-7640-2439920
BEGIN:VALARM
ACTION:DISPLAY
DESCRIPTION:
TRIGGER:-PT10M
END:VALARM
END:VEVENT
END:VCALENDAR