BEGIN:VCALENDAR
VERSION:2.0
PRODID:-//Goldgrube//myauktion.com//AT
CALSCALE:GREGORIAN
BEGIN:VEVENT
DTSTART:20260503T155000
DTEND:20260503T155030
LOCATION:Gewerbepark 13, 8562 Mooskirchen
DTSTAMP:20260419T154435
SUMMARY:MyAuktion: Ablauf Artikel Nr. 956241 Rost Apfel Rosé 4x und Rost Ingwer Rosè 2x 330ml
URL;VALUE=URI:https://www.myauktion.com/versteigerung7640-position2439921-rost-apfel-rose-4x-und-rost-ingwer-ros-2x-330ml.php
DESCRIPTION:
UID:myauktion-7640-2439921
BEGIN:VALARM
ACTION:DISPLAY
DESCRIPTION:
TRIGGER:-PT10M
END:VALARM
END:VEVENT
END:VCALENDAR