BEGIN:VCALENDAR
VERSION:2.0
PRODID:-//Goldgrube//myauktion.com//AT
CALSCALE:GREGORIAN
BEGIN:VEVENT
DTSTART:20260503T173900
DTEND:20260503T173930
LOCATION:Gewerbepark 13, 8562 Mooskirchen
DTSTAMP:20260419T192359
SUMMARY:MyAuktion: Ablauf Artikel Nr. 957040 ApoFit Sanddornbeere Früchtetee 100g
URL;VALUE=URI:https://www.myauktion.com/versteigerung7640-position2439927-apofit-sanddornbeere-fruechtetee-100g.php
DESCRIPTION:MHD: 30.04.2028
UID:myauktion-7640-2439927
BEGIN:VALARM
ACTION:DISPLAY
DESCRIPTION:MHD: 30.04.2028
TRIGGER:-PT10M
END:VALARM
END:VEVENT
END:VCALENDAR