BEGIN:VCALENDAR
VERSION:2.0
PRODID:-//Goldgrube//myauktion.com//AT
CALSCALE:GREGORIAN
BEGIN:VEVENT
DTSTART:20260503T174200
DTEND:20260503T174230
LOCATION:Gewerbepark 13, 8562 Mooskirchen
DTSTAMP:20260419T143904
SUMMARY:MyAuktion: Ablauf Artikel Nr. 957041 ApoFit Flohsamen Schwarz je 100g
URL;VALUE=URI:https://www.myauktion.com/versteigerung7640-position2439930-apofit-flohsamen-schwarz-je-100g.php
DESCRIPTION:MHD: 04.10.2028
UID:myauktion-7640-2439930
BEGIN:VALARM
ACTION:DISPLAY
DESCRIPTION:MHD: 04.10.2028
TRIGGER:-PT10M
END:VALARM
END:VEVENT
END:VCALENDAR