BEGIN:VCALENDAR
VERSION:2.0
PRODID:-//Goldgrube//myauktion.com//AT
CALSCALE:GREGORIAN
BEGIN:VEVENT
DTSTART:20260503T174600
DTEND:20260503T174630
LOCATION:Gewerbepark 13, 8562 Mooskirchen
DTSTAMP:20260419T192407
SUMMARY:MyAuktion: Ablauf Artikel Nr. 957043 ApoFit Neembaumblätter geschnitten 300g
URL;VALUE=URI:https://www.myauktion.com/versteigerung7640-position2439934-apofit-neembaumblaetter-geschnitten-300g.php
DESCRIPTION:MHD: 27.10.2028
UID:myauktion-7640-2439934
BEGIN:VALARM
ACTION:DISPLAY
DESCRIPTION:MHD: 27.10.2028
TRIGGER:-PT10M
END:VALARM
END:VEVENT
END:VCALENDAR