BEGIN:VCALENDAR
VERSION:2.0
PRODID:-//Goldgrube//myauktion.com//AT
CALSCALE:GREGORIAN
BEGIN:VEVENT
DTSTART:20260503T160800
DTEND:20260503T160830
LOCATION:Gewerbepark 13, 8562 Mooskirchen
DTSTAMP:20260419T195656
SUMMARY:MyAuktion: Ablauf Artikel Nr. 956249 Pastazeit Bio Hafer und Lupinen Fusilli 250g  
URL;VALUE=URI:https://www.myauktion.com/versteigerung7640-position2439937-pastazeit-bio-hafer-und-lupinen-fusilli-250g.php
DESCRIPTION:Mhd mindestens bis 28.05.26
UID:myauktion-7640-2439937
BEGIN:VALARM
ACTION:DISPLAY
DESCRIPTION:Mhd mindestens bis 28.05.26
TRIGGER:-PT10M
END:VALARM
END:VEVENT
END:VCALENDAR