BEGIN:VCALENDAR
VERSION:2.0
PRODID:-//Goldgrube//myauktion.com//AT
CALSCALE:GREGORIAN
BEGIN:VEVENT
DTSTART:20260503T160900
DTEND:20260503T160930
LOCATION:Gewerbepark 13, 8562 Mooskirchen
DTSTAMP:20260419T193446
SUMMARY:MyAuktion: Ablauf Artikel Nr. 956250 Pastazeit Bio Rote Linsen und Kastanien 250g 
URL;VALUE=URI:https://www.myauktion.com/versteigerung7640-position2439939-pastazeit-bio-rote-linsen-und-kastanien-250g.php
DESCRIPTION:Mhd mindestens bis 15.10.26
UID:myauktion-7640-2439939
BEGIN:VALARM
ACTION:DISPLAY
DESCRIPTION:Mhd mindestens bis 15.10.26
TRIGGER:-PT10M
END:VALARM
END:VEVENT
END:VCALENDAR