BEGIN:VCALENDAR
VERSION:2.0
PRODID:-//Goldgrube//myauktion.com//AT
CALSCALE:GREGORIAN
BEGIN:VEVENT
DTSTART:20260503T161000
DTEND:20260503T161030
LOCATION:Gewerbepark 13, 8562 Mooskirchen
DTSTAMP:20260419T192404
SUMMARY:MyAuktion: Ablauf Artikel Nr. 956251 Pastazeit diverse sorten 3x250g 
URL;VALUE=URI:https://www.myauktion.com/versteigerung7640-position2439941-pastazeit-diverse-sorten-3x250g.php
DESCRIPTION:Mhd ist nicht ersichtlich 
UID:myauktion-7640-2439941
BEGIN:VALARM
ACTION:DISPLAY
DESCRIPTION:Mhd ist nicht ersichtlich 
TRIGGER:-PT10M
END:VALARM
END:VEVENT
END:VCALENDAR