BEGIN:VCALENDAR
VERSION:2.0
PRODID:-//Goldgrube//myauktion.com//AT
CALSCALE:GREGORIAN
BEGIN:VEVENT
DTSTART:20260503T180000
DTEND:20260503T180030
LOCATION:Gewerbepark 13, 8562 Mooskirchen
DTSTAMP:20260419T192404
SUMMARY:MyAuktion: Ablauf Artikel Nr. 957049 DM Bio Dinkelmehl Type 630, je 1000g
URL;VALUE=URI:https://www.myauktion.com/versteigerung7640-position2439945-dm-bio-dinkelmehl-type-630-je-1000g.php
DESCRIPTION:MHD: 02.09.2026
UID:myauktion-7640-2439945
BEGIN:VALARM
ACTION:DISPLAY
DESCRIPTION:MHD: 02.09.2026
TRIGGER:-PT10M
END:VALARM
END:VEVENT
END:VCALENDAR