BEGIN:VCALENDAR
VERSION:2.0
PRODID:-//Goldgrube//myauktion.com//AT
CALSCALE:GREGORIAN
BEGIN:VEVENT
DTSTART:20260503T161300
DTEND:20260503T161330
LOCATION:Gewerbepark 13, 8562 Mooskirchen
DTSTAMP:20260419T192402
SUMMARY:MyAuktion: Ablauf Artikel Nr. 956253 KoRo Sack Mix 1kg 
URL;VALUE=URI:https://www.myauktion.com/versteigerung7640-position2439946-koro-sack-mix-1kg.php
DESCRIPTION:Mhd 24.10.26
UID:myauktion-7640-2439946
BEGIN:VALARM
ACTION:DISPLAY
DESCRIPTION:Mhd 24.10.26
TRIGGER:-PT10M
END:VALARM
END:VEVENT
END:VCALENDAR